BEGIN:VCALENDAR
VERSION:2.0
PRODID:-//Sahaj Kaur - ECPv6.15.20//NONSGML v1.0//EN
CALSCALE:GREGORIAN
METHOD:PUBLISH
X-ORIGINAL-URL:https://sahajkaur.com
X-WR-CALDESC:Events for Sahaj Kaur
REFRESH-INTERVAL;VALUE=DURATION:PT1H
X-Robots-Tag:noindex
X-PUBLISHED-TTL:PT1H
BEGIN:VTIMEZONE
TZID:America/New_York
BEGIN:DAYLIGHT
TZOFFSETFROM:-0500
TZOFFSETTO:-0400
TZNAME:EDT
DTSTART:20250309T070000
END:DAYLIGHT
BEGIN:STANDARD
TZOFFSETFROM:-0400
TZOFFSETTO:-0500
TZNAME:EST
DTSTART:20251102T060000
END:STANDARD
BEGIN:DAYLIGHT
TZOFFSETFROM:-0500
TZOFFSETTO:-0400
TZNAME:EDT
DTSTART:20260308T070000
END:DAYLIGHT
BEGIN:STANDARD
TZOFFSETFROM:-0400
TZOFFSETTO:-0500
TZNAME:EST
DTSTART:20261101T060000
END:STANDARD
BEGIN:DAYLIGHT
TZOFFSETFROM:-0500
TZOFFSETTO:-0400
TZNAME:EDT
DTSTART:20270314T070000
END:DAYLIGHT
BEGIN:STANDARD
TZOFFSETFROM:-0400
TZOFFSETTO:-0500
TZNAME:EST
DTSTART:20271107T060000
END:STANDARD
END:VTIMEZONE
BEGIN:VEVENT
DTSTART;TZID=America/New_York:20260120T190000
DTEND;TZID=America/New_York:20260120T200000
DTSTAMP:20260420T020118
CREATED:20250305T154801Z
LAST-MODIFIED:20250305T162542Z
UID:393299-1768935600-1768939200@sahajkaur.com
SUMMARY:Kundalini Meditation and Healing @ at Five Doors Health + Wellness
DESCRIPTION:Join Sahaj for a one-hour class that combines meditation and relaxation with a healing energy session. \nSign up
URL:https://sahajkaur.com/event/kundalini-meditation-and-healing-majestic-yoga-studio/2026-01-20/
LOCATION:Five Doors Yoga\, Health + Wellness\, Online\, Cambridge\, MA\, United States
CATEGORIES:Kundalini Yoga
ATTACH;FMTTYPE=image/jpeg:https://sahajkaur.com/wp-content/uploads/2025/03/meditation-sahaj.jpg
GEO:42.3666066;-71.1053026
X-APPLE-STRUCTURED-LOCATION;VALUE=URI;X-ADDRESS=Five Doors Yoga Health + Wellness Online Cambridge MA United States;X-APPLE-RADIUS=500;X-TITLE=Online:geo:-71.1053026,42.3666066
END:VEVENT
BEGIN:VEVENT
DTSTART;TZID=America/New_York:20260122T180000
DTEND;TZID=America/New_York:20260122T193000
DTSTAMP:20260420T020118
CREATED:20250305T153328Z
LAST-MODIFIED:20250305T162334Z
UID:393245-1769104800-1769110200@sahajkaur.com
SUMMARY:Kundalini Yoga in-person and virtual @ Majestic Yoga Studio
DESCRIPTION:The Sanskrit word “Kundal” refers to the circular or coiled energy that usually lies dormant at the base of the spine. Kundalini Yoga helps to move this energy along the chakra systems by using sound\, breath\, repetitive movements\, relaxation\, and meditation. Sometimes this practice is referred to as a “technology of awareness”\, as it helps us align with the creative potential that is our birthright and available to us all. \nSign up\nLink will take you to the Majestic Yoga Studio website to sign up.
URL:https://sahajkaur.com/event/kundalini-yoga-in-person-and-virtual-majestic-yoga/2026-01-22/
LOCATION:Majestic Yoga Studio\, 382 Huron Ave\, Cambridge\, MA\, 02138\, United States
CATEGORIES:Kundalini Yoga
ATTACH;FMTTYPE=image/jpeg:https://sahajkaur.com/wp-content/uploads/2025/03/l6obywwy14s6ckqml3spm2a0jsn4.jpeg
END:VEVENT
BEGIN:VEVENT
DTSTART;TZID=America/New_York:20260127T190000
DTEND;TZID=America/New_York:20260127T200000
DTSTAMP:20260420T020118
CREATED:20250305T154801Z
LAST-MODIFIED:20250305T162542Z
UID:393300-1769540400-1769544000@sahajkaur.com
SUMMARY:Kundalini Meditation and Healing @ at Five Doors Health + Wellness
DESCRIPTION:Join Sahaj for a one-hour class that combines meditation and relaxation with a healing energy session. \nSign up
URL:https://sahajkaur.com/event/kundalini-meditation-and-healing-majestic-yoga-studio/2026-01-27/
LOCATION:Five Doors Yoga\, Health + Wellness\, Online\, Cambridge\, MA\, United States
CATEGORIES:Kundalini Yoga
ATTACH;FMTTYPE=image/jpeg:https://sahajkaur.com/wp-content/uploads/2025/03/meditation-sahaj.jpg
GEO:42.3666066;-71.1053026
X-APPLE-STRUCTURED-LOCATION;VALUE=URI;X-ADDRESS=Five Doors Yoga Health + Wellness Online Cambridge MA United States;X-APPLE-RADIUS=500;X-TITLE=Online:geo:-71.1053026,42.3666066
END:VEVENT
BEGIN:VEVENT
DTSTART;TZID=America/New_York:20260129T180000
DTEND;TZID=America/New_York:20260129T193000
DTSTAMP:20260420T020118
CREATED:20250305T153328Z
LAST-MODIFIED:20250305T162334Z
UID:393246-1769709600-1769715000@sahajkaur.com
SUMMARY:Kundalini Yoga in-person and virtual @ Majestic Yoga Studio
DESCRIPTION:The Sanskrit word “Kundal” refers to the circular or coiled energy that usually lies dormant at the base of the spine. Kundalini Yoga helps to move this energy along the chakra systems by using sound\, breath\, repetitive movements\, relaxation\, and meditation. Sometimes this practice is referred to as a “technology of awareness”\, as it helps us align with the creative potential that is our birthright and available to us all. \nSign up\nLink will take you to the Majestic Yoga Studio website to sign up.
URL:https://sahajkaur.com/event/kundalini-yoga-in-person-and-virtual-majestic-yoga/2026-01-29/
LOCATION:Majestic Yoga Studio\, 382 Huron Ave\, Cambridge\, MA\, 02138\, United States
CATEGORIES:Kundalini Yoga
ATTACH;FMTTYPE=image/jpeg:https://sahajkaur.com/wp-content/uploads/2025/03/l6obywwy14s6ckqml3spm2a0jsn4.jpeg
END:VEVENT
BEGIN:VEVENT
DTSTART;TZID=America/New_York:20260203T190000
DTEND;TZID=America/New_York:20260203T200000
DTSTAMP:20260420T020118
CREATED:20250305T154801Z
LAST-MODIFIED:20250305T162543Z
UID:393301-1770145200-1770148800@sahajkaur.com
SUMMARY:Kundalini Meditation and Healing @ at Five Doors Health + Wellness
DESCRIPTION:Join Sahaj for a one-hour class that combines meditation and relaxation with a healing energy session. \nSign up
URL:https://sahajkaur.com/event/kundalini-meditation-and-healing-majestic-yoga-studio/2026-02-03/
LOCATION:Five Doors Yoga\, Health + Wellness\, Online\, Cambridge\, MA\, United States
CATEGORIES:Kundalini Yoga
ATTACH;FMTTYPE=image/jpeg:https://sahajkaur.com/wp-content/uploads/2025/03/meditation-sahaj.jpg
GEO:42.3666066;-71.1053026
X-APPLE-STRUCTURED-LOCATION;VALUE=URI;X-ADDRESS=Five Doors Yoga Health + Wellness Online Cambridge MA United States;X-APPLE-RADIUS=500;X-TITLE=Online:geo:-71.1053026,42.3666066
END:VEVENT
BEGIN:VEVENT
DTSTART;TZID=America/New_York:20260205T180000
DTEND;TZID=America/New_York:20260205T193000
DTSTAMP:20260420T020118
CREATED:20250305T153328Z
LAST-MODIFIED:20250305T162335Z
UID:393247-1770314400-1770319800@sahajkaur.com
SUMMARY:Kundalini Yoga in-person and virtual @ Majestic Yoga Studio
DESCRIPTION:The Sanskrit word “Kundal” refers to the circular or coiled energy that usually lies dormant at the base of the spine. Kundalini Yoga helps to move this energy along the chakra systems by using sound\, breath\, repetitive movements\, relaxation\, and meditation. Sometimes this practice is referred to as a “technology of awareness”\, as it helps us align with the creative potential that is our birthright and available to us all. \nSign up\nLink will take you to the Majestic Yoga Studio website to sign up.
URL:https://sahajkaur.com/event/kundalini-yoga-in-person-and-virtual-majestic-yoga/2026-02-05/
LOCATION:Majestic Yoga Studio\, 382 Huron Ave\, Cambridge\, MA\, 02138\, United States
CATEGORIES:Kundalini Yoga
ATTACH;FMTTYPE=image/jpeg:https://sahajkaur.com/wp-content/uploads/2025/03/l6obywwy14s6ckqml3spm2a0jsn4.jpeg
END:VEVENT
BEGIN:VEVENT
DTSTART;TZID=America/New_York:20260210T190000
DTEND;TZID=America/New_York:20260210T200000
DTSTAMP:20260420T020118
CREATED:20250305T154801Z
LAST-MODIFIED:20250305T162543Z
UID:393302-1770750000-1770753600@sahajkaur.com
SUMMARY:Kundalini Meditation and Healing @ at Five Doors Health + Wellness
DESCRIPTION:Join Sahaj for a one-hour class that combines meditation and relaxation with a healing energy session. \nSign up
URL:https://sahajkaur.com/event/kundalini-meditation-and-healing-majestic-yoga-studio/2026-02-10/
LOCATION:Five Doors Yoga\, Health + Wellness\, Online\, Cambridge\, MA\, United States
CATEGORIES:Kundalini Yoga
ATTACH;FMTTYPE=image/jpeg:https://sahajkaur.com/wp-content/uploads/2025/03/meditation-sahaj.jpg
GEO:42.3666066;-71.1053026
X-APPLE-STRUCTURED-LOCATION;VALUE=URI;X-ADDRESS=Five Doors Yoga Health + Wellness Online Cambridge MA United States;X-APPLE-RADIUS=500;X-TITLE=Online:geo:-71.1053026,42.3666066
END:VEVENT
BEGIN:VEVENT
DTSTART;TZID=America/New_York:20260212T180000
DTEND;TZID=America/New_York:20260212T193000
DTSTAMP:20260420T020118
CREATED:20250305T153328Z
LAST-MODIFIED:20250305T162336Z
UID:393248-1770919200-1770924600@sahajkaur.com
SUMMARY:Kundalini Yoga in-person and virtual @ Majestic Yoga Studio
DESCRIPTION:The Sanskrit word “Kundal” refers to the circular or coiled energy that usually lies dormant at the base of the spine. Kundalini Yoga helps to move this energy along the chakra systems by using sound\, breath\, repetitive movements\, relaxation\, and meditation. Sometimes this practice is referred to as a “technology of awareness”\, as it helps us align with the creative potential that is our birthright and available to us all. \nSign up\nLink will take you to the Majestic Yoga Studio website to sign up.
URL:https://sahajkaur.com/event/kundalini-yoga-in-person-and-virtual-majestic-yoga/2026-02-12/
LOCATION:Majestic Yoga Studio\, 382 Huron Ave\, Cambridge\, MA\, 02138\, United States
CATEGORIES:Kundalini Yoga
ATTACH;FMTTYPE=image/jpeg:https://sahajkaur.com/wp-content/uploads/2025/03/l6obywwy14s6ckqml3spm2a0jsn4.jpeg
END:VEVENT
BEGIN:VEVENT
DTSTART;TZID=America/New_York:20260217T190000
DTEND;TZID=America/New_York:20260217T200000
DTSTAMP:20260420T020118
CREATED:20250305T154801Z
LAST-MODIFIED:20250305T162544Z
UID:393303-1771354800-1771358400@sahajkaur.com
SUMMARY:Kundalini Meditation and Healing @ at Five Doors Health + Wellness
DESCRIPTION:Join Sahaj for a one-hour class that combines meditation and relaxation with a healing energy session. \nSign up
URL:https://sahajkaur.com/event/kundalini-meditation-and-healing-majestic-yoga-studio/2026-02-17/
LOCATION:Five Doors Yoga\, Health + Wellness\, Online\, Cambridge\, MA\, United States
CATEGORIES:Kundalini Yoga
ATTACH;FMTTYPE=image/jpeg:https://sahajkaur.com/wp-content/uploads/2025/03/meditation-sahaj.jpg
GEO:42.3666066;-71.1053026
X-APPLE-STRUCTURED-LOCATION;VALUE=URI;X-ADDRESS=Five Doors Yoga Health + Wellness Online Cambridge MA United States;X-APPLE-RADIUS=500;X-TITLE=Online:geo:-71.1053026,42.3666066
END:VEVENT
BEGIN:VEVENT
DTSTART;TZID=America/New_York:20260219T180000
DTEND;TZID=America/New_York:20260219T193000
DTSTAMP:20260420T020118
CREATED:20250305T153328Z
LAST-MODIFIED:20250305T162336Z
UID:393249-1771524000-1771529400@sahajkaur.com
SUMMARY:Kundalini Yoga in-person and virtual @ Majestic Yoga Studio
DESCRIPTION:The Sanskrit word “Kundal” refers to the circular or coiled energy that usually lies dormant at the base of the spine. Kundalini Yoga helps to move this energy along the chakra systems by using sound\, breath\, repetitive movements\, relaxation\, and meditation. Sometimes this practice is referred to as a “technology of awareness”\, as it helps us align with the creative potential that is our birthright and available to us all. \nSign up\nLink will take you to the Majestic Yoga Studio website to sign up.
URL:https://sahajkaur.com/event/kundalini-yoga-in-person-and-virtual-majestic-yoga/2026-02-19/
LOCATION:Majestic Yoga Studio\, 382 Huron Ave\, Cambridge\, MA\, 02138\, United States
CATEGORIES:Kundalini Yoga
ATTACH;FMTTYPE=image/jpeg:https://sahajkaur.com/wp-content/uploads/2025/03/l6obywwy14s6ckqml3spm2a0jsn4.jpeg
END:VEVENT
BEGIN:VEVENT
DTSTART;TZID=America/New_York:20260224T190000
DTEND;TZID=America/New_York:20260224T200000
DTSTAMP:20260420T020118
CREATED:20250305T154801Z
LAST-MODIFIED:20250305T162545Z
UID:393304-1771959600-1771963200@sahajkaur.com
SUMMARY:Kundalini Meditation and Healing @ at Five Doors Health + Wellness
DESCRIPTION:Join Sahaj for a one-hour class that combines meditation and relaxation with a healing energy session. \nSign up
URL:https://sahajkaur.com/event/kundalini-meditation-and-healing-majestic-yoga-studio/2026-02-24/
LOCATION:Five Doors Yoga\, Health + Wellness\, Online\, Cambridge\, MA\, United States
CATEGORIES:Kundalini Yoga
ATTACH;FMTTYPE=image/jpeg:https://sahajkaur.com/wp-content/uploads/2025/03/meditation-sahaj.jpg
GEO:42.3666066;-71.1053026
X-APPLE-STRUCTURED-LOCATION;VALUE=URI;X-ADDRESS=Five Doors Yoga Health + Wellness Online Cambridge MA United States;X-APPLE-RADIUS=500;X-TITLE=Online:geo:-71.1053026,42.3666066
END:VEVENT
BEGIN:VEVENT
DTSTART;TZID=America/New_York:20260226T180000
DTEND;TZID=America/New_York:20260226T193000
DTSTAMP:20260420T020118
CREATED:20250305T153328Z
LAST-MODIFIED:20250305T162339Z
UID:393250-1772128800-1772134200@sahajkaur.com
SUMMARY:Kundalini Yoga in-person and virtual @ Majestic Yoga Studio
DESCRIPTION:The Sanskrit word “Kundal” refers to the circular or coiled energy that usually lies dormant at the base of the spine. Kundalini Yoga helps to move this energy along the chakra systems by using sound\, breath\, repetitive movements\, relaxation\, and meditation. Sometimes this practice is referred to as a “technology of awareness”\, as it helps us align with the creative potential that is our birthright and available to us all. \nSign up\nLink will take you to the Majestic Yoga Studio website to sign up.
URL:https://sahajkaur.com/event/kundalini-yoga-in-person-and-virtual-majestic-yoga/2026-02-26/
LOCATION:Majestic Yoga Studio\, 382 Huron Ave\, Cambridge\, MA\, 02138\, United States
CATEGORIES:Kundalini Yoga
ATTACH;FMTTYPE=image/jpeg:https://sahajkaur.com/wp-content/uploads/2025/03/l6obywwy14s6ckqml3spm2a0jsn4.jpeg
END:VEVENT
BEGIN:VEVENT
DTSTART;TZID=America/New_York:20260303T190000
DTEND;TZID=America/New_York:20260303T200000
DTSTAMP:20260420T020118
CREATED:20250305T154801Z
LAST-MODIFIED:20250305T162546Z
UID:393305-1772564400-1772568000@sahajkaur.com
SUMMARY:Kundalini Meditation and Healing @ at Five Doors Health + Wellness
DESCRIPTION:Join Sahaj for a one-hour class that combines meditation and relaxation with a healing energy session. \nSign up
URL:https://sahajkaur.com/event/kundalini-meditation-and-healing-majestic-yoga-studio/2026-03-03/
LOCATION:Five Doors Yoga\, Health + Wellness\, Online\, Cambridge\, MA\, United States
CATEGORIES:Kundalini Yoga
ATTACH;FMTTYPE=image/jpeg:https://sahajkaur.com/wp-content/uploads/2025/03/meditation-sahaj.jpg
GEO:42.3666066;-71.1053026
X-APPLE-STRUCTURED-LOCATION;VALUE=URI;X-ADDRESS=Five Doors Yoga Health + Wellness Online Cambridge MA United States;X-APPLE-RADIUS=500;X-TITLE=Online:geo:-71.1053026,42.3666066
END:VEVENT
BEGIN:VEVENT
DTSTART;TZID=America/New_York:20260305T180000
DTEND;TZID=America/New_York:20260305T193000
DTSTAMP:20260420T020118
CREATED:20250305T153328Z
LAST-MODIFIED:20250305T162339Z
UID:393251-1772733600-1772739000@sahajkaur.com
SUMMARY:Kundalini Yoga in-person and virtual @ Majestic Yoga Studio
DESCRIPTION:The Sanskrit word “Kundal” refers to the circular or coiled energy that usually lies dormant at the base of the spine. Kundalini Yoga helps to move this energy along the chakra systems by using sound\, breath\, repetitive movements\, relaxation\, and meditation. Sometimes this practice is referred to as a “technology of awareness”\, as it helps us align with the creative potential that is our birthright and available to us all. \nSign up\nLink will take you to the Majestic Yoga Studio website to sign up.
URL:https://sahajkaur.com/event/kundalini-yoga-in-person-and-virtual-majestic-yoga/2026-03-05/
LOCATION:Majestic Yoga Studio\, 382 Huron Ave\, Cambridge\, MA\, 02138\, United States
CATEGORIES:Kundalini Yoga
ATTACH;FMTTYPE=image/jpeg:https://sahajkaur.com/wp-content/uploads/2025/03/l6obywwy14s6ckqml3spm2a0jsn4.jpeg
END:VEVENT
BEGIN:VEVENT
DTSTART;TZID=America/New_York:20260310T190000
DTEND;TZID=America/New_York:20260310T200000
DTSTAMP:20260420T020118
CREATED:20250305T154801Z
LAST-MODIFIED:20250305T162546Z
UID:393306-1773169200-1773172800@sahajkaur.com
SUMMARY:Kundalini Meditation and Healing @ at Five Doors Health + Wellness
DESCRIPTION:Join Sahaj for a one-hour class that combines meditation and relaxation with a healing energy session. \nSign up
URL:https://sahajkaur.com/event/kundalini-meditation-and-healing-majestic-yoga-studio/2026-03-10/
LOCATION:Five Doors Yoga\, Health + Wellness\, Online\, Cambridge\, MA\, United States
CATEGORIES:Kundalini Yoga
ATTACH;FMTTYPE=image/jpeg:https://sahajkaur.com/wp-content/uploads/2025/03/meditation-sahaj.jpg
GEO:42.3666066;-71.1053026
X-APPLE-STRUCTURED-LOCATION;VALUE=URI;X-ADDRESS=Five Doors Yoga Health + Wellness Online Cambridge MA United States;X-APPLE-RADIUS=500;X-TITLE=Online:geo:-71.1053026,42.3666066
END:VEVENT
END:VCALENDAR