BEGIN:VCALENDAR
VERSION:2.0
PRODID:-//Sahaj Kaur - ECPv6.15.20//NONSGML v1.0//EN
CALSCALE:GREGORIAN
METHOD:PUBLISH
X-WR-CALNAME:Sahaj Kaur
X-ORIGINAL-URL:https://sahajkaur.com
X-WR-CALDESC:Events for Sahaj Kaur
REFRESH-INTERVAL;VALUE=DURATION:PT1H
X-Robots-Tag:noindex
X-PUBLISHED-TTL:PT1H
BEGIN:VTIMEZONE
TZID:America/New_York
BEGIN:DAYLIGHT
TZOFFSETFROM:-0500
TZOFFSETTO:-0400
TZNAME:EDT
DTSTART:20250309T070000
END:DAYLIGHT
BEGIN:STANDARD
TZOFFSETFROM:-0400
TZOFFSETTO:-0500
TZNAME:EST
DTSTART:20251102T060000
END:STANDARD
BEGIN:DAYLIGHT
TZOFFSETFROM:-0500
TZOFFSETTO:-0400
TZNAME:EDT
DTSTART:20260308T070000
END:DAYLIGHT
BEGIN:STANDARD
TZOFFSETFROM:-0400
TZOFFSETTO:-0500
TZNAME:EST
DTSTART:20261101T060000
END:STANDARD
BEGIN:DAYLIGHT
TZOFFSETFROM:-0500
TZOFFSETTO:-0400
TZNAME:EDT
DTSTART:20270314T070000
END:DAYLIGHT
BEGIN:STANDARD
TZOFFSETFROM:-0400
TZOFFSETTO:-0500
TZNAME:EST
DTSTART:20271107T060000
END:STANDARD
END:VTIMEZONE
BEGIN:VEVENT
DTSTART;TZID=America/New_York:20260310T190000
DTEND;TZID=America/New_York:20260310T200000
DTSTAMP:20260422T035101
CREATED:20250305T154801Z
LAST-MODIFIED:20250305T162546Z
UID:393306-1773169200-1773172800@sahajkaur.com
SUMMARY:Kundalini Meditation and Healing @ at Five Doors Health + Wellness
DESCRIPTION:Join Sahaj for a one-hour class that combines meditation and relaxation with a healing energy session. \nSign up
URL:https://sahajkaur.com/event/kundalini-meditation-and-healing-majestic-yoga-studio/2026-03-10/
LOCATION:Five Doors Yoga\, Health + Wellness\, Online\, Cambridge\, MA\, United States
CATEGORIES:Kundalini Yoga
ATTACH;FMTTYPE=image/jpeg:https://sahajkaur.com/wp-content/uploads/2025/03/meditation-sahaj.jpg
GEO:42.3666066;-71.1053026
X-APPLE-STRUCTURED-LOCATION;VALUE=URI;X-ADDRESS=Five Doors Yoga Health + Wellness Online Cambridge MA United States;X-APPLE-RADIUS=500;X-TITLE=Online:geo:-71.1053026,42.3666066
END:VEVENT
END:VCALENDAR